BEGIN:VCALENDAR
VERSION:2.0
PRODID:-//Arshayoga - ECPv6.15.19//NONSGML v1.0//EN
CALSCALE:GREGORIAN
METHOD:PUBLISH
X-WR-CALNAME:Arshayoga
X-ORIGINAL-URL:https://arshayoga.org
X-WR-CALDESC:Events for Arshayoga
REFRESH-INTERVAL;VALUE=DURATION:PT1H
X-Robots-Tag:noindex
X-PUBLISHED-TTL:PT1H
BEGIN:VTIMEZONE
TZID:Asia/Kolkata
BEGIN:STANDARD
TZOFFSETFROM:+0530
TZOFFSETTO:+0530
TZNAME:IST
DTSTART:20220101T000000
END:STANDARD
END:VTIMEZONE
BEGIN:VEVENT
DTSTART;TZID=Asia/Kolkata:20231119T080000
DTEND;TZID=Asia/Kolkata:20231201T170000
DTSTAMP:20260423T142507
CREATED:20220904T202220Z
LAST-MODIFIED:20221111T011958Z
UID:2450-1700380800-1701450000@arshayoga.org
SUMMARY:Yogatherapie Ausbildung Level 3 - Yogopadesha/Life Coaching (Germany)
DESCRIPTION:Zeitraum: 19.11.2023 – 01.12.2023\, Yoga Vidya Bad Meinberg \nhttps://www.yoga-vidya.de/seminare/seminar/yogatherapie-ausbildung-level-iii-yogopadeshalife-coaching-b231119-2/ \nYogatherapie-Aufbaukurs für Yogatherapeuten/innen; Intensiv-Weiterbildungsseminar für Yogalehrende ohne Yogatherapie-Ausbildung \nWas ist das Ziel des Lebens? Wohin gehe ich? Warum bin ich hier? Warum bin ich anders als meine Familienmitglieder? Was ist meine Lebensaufgabe? \nDieser Kurs zielt sowohl darauf ab\, all diese Fragen für dich selbst zu beantworten als auch sie mit anderen in Form eines Life Coachings zu behandeln.\nAnders als in den Yogatherapie-Ausbildungen 1 und 2\, die das menschliche System in seinem Ungleichgewicht mit dem Ziel der Wiederherstellung der Gesundheit behandelten\, konzentriert sich diese Level 3-Yogatherapie-Ausbildung auf ein gesundes System. Sie bietet eine Anleitung zu einer spirituellen Verbindung aller Lebensaspekte in Übereinstimmung mit der Persönlichkeit. \nWir behandeln Themen der menschlichen Persönlichkeit und des spirituellen Ziels im Leben gemäß den Schriften wie Bhagavad Gita\, Yoga Sutras und Yoga Vasishta. \nYogatherapeuten bietet diese weitere Intensiv-Fortbildung ein vertieftes Verständnis des in der Ausbildungen Level 1 und 2 Gelernten und praktische Anwendungsmöglichkeiten für ihre therapeutische Arbeit. Yogalehrende erhalten einen Kompaktkurs zum besseren Verständnis des eigenen Geist-Psyche-Komplexes\, seiner Wirkungsweisen und Anleitung zur Lebensausrichtung für Schüler und Teilnehmer. \nAusbildungsthemen u.a.: \n• Swadhyaya Dhyana – Selbstreflexions-Meditation\n• Mind management\n• Sankalpa Nadisuddhi Pranayama\n• Varna Vyavastha – verschiedene Stufen der geistigen Entwicklung\n• Psychohygiene und -gesundheit\n• Rezitationstraining \nTeilnahmevoraussetzungen: Yogatherapie- oder Yogalehrer Ausbildung (min. 200 Unterrichtseinheiten). Kenntnis des Yoga-Modells des menschlichen Geistes wird vorausgesetzt. \nPrüfung/Zertifikat: Bei erfolgreicher Teilnahme und Bestehen der Prüfung/Abschlussarbeit erhalten ausgebildete Yogatherapeuten ein Zertifikat “Yogatherapie Ausbildung Level III – Yogopadesha – Lebensberatung“\, Yogalehrende ohne Therapieausbildung eine „Yogopadesha – Lebensberatung“ Weiterbildungsbescheinigung . Ca. 140 Unterrichtseinheiten
URL:https://arshayoga.org/courses-events/yogatherapie-ausbildung-level-iii-yogopadesha-life-coaching/
CATEGORIES:Events Abroad,Yoga Therapy Training
END:VEVENT
END:VCALENDAR