BEGIN:VCALENDAR
VERSION:2.0
PRODID:-//Arshayoga - ECPv6.15.19//NONSGML v1.0//EN
CALSCALE:GREGORIAN
METHOD:PUBLISH
X-ORIGINAL-URL:https://arshayoga.org
X-WR-CALDESC:Events for Arshayoga
REFRESH-INTERVAL;VALUE=DURATION:PT1H
X-Robots-Tag:noindex
X-PUBLISHED-TTL:PT1H
BEGIN:VTIMEZONE
TZID:Asia/Kolkata
BEGIN:STANDARD
TZOFFSETFROM:+0530
TZOFFSETTO:+0530
TZNAME:IST
DTSTART:20230101T000000
END:STANDARD
END:VTIMEZONE
BEGIN:VEVENT
DTSTART;TZID=Asia/Kolkata:20241115T080000
DTEND;TZID=Asia/Kolkata:20241130T170000
DTSTAMP:20260419T212444
CREATED:20240326T044642Z
LAST-MODIFIED:20240404T024949Z
UID:2862-1731657600-1732986000@arshayoga.org
SUMMARY:South India Yatra (Pilgrimage)
DESCRIPTION:Spritual & cultural retreat for Yogis with Pradipa & Meera at Arsha Yoga\, Kerala. DOWNLOAD BROCHURE \n“A yãtra pronounced yAH-trAH) is much more than a vacation. It’s a sacred journey where the outer reality of the site fuses with our inner experience of the divine to transform us on all levels. To go on a yatra is to embark on a path that is mysterious and adventurous. We return from a yatra changed\, not only because of the novelty of traveling to exotic lands\, but because we’ve been touched by the grace of the sacred.” – Kavitha Chinnayian \n \nWhat to expect \n\nDaily Yoga\, Pranayama & Meditation whilst staying at Arsha Yoga Gurukulum & Heritage Farms plus day trips and excursions such as temple visit and boat ride.\nLecutre on Ayurveda\, the ‘Science of Life’.\nFree time for reading\, journaling\, swimming and relaxing walks on the beach.\nClassical Indian Music concert and Kalaripayattu (martial art) perfomance while at Arsha Yoga.\nPrivate minibus plus guide for travel to Heritage Farms\, Isha Yoga Ashram & Marayur\, with some travel on train and bus for cultural experience.\nSimple\, clean accommodation and simple vegetarian food.\nGuidance and support from Pradipa and Meera to develop your practice and sankalpa (intention) for the trip.\n\nTypical Daily Ashram Schedule \n6.15-7.15am – Pranayama and Meditation\n7.30am – Tea and banana\n8-9.30am – Asana practice (Hatha Yoga/Yin Yoga/Yoga Nidra)\n10-11am – Brunch\n11am – Seva (small help around the ashram\n– karma yoga)\n11-3.30pm – Free time (swimming\, reading\, journaling\, massage*)\n3.30pm – Tea\n4pm – Yin Yoga/Yoga Nidra/Self-Practice\n/Ayurveda Lecture\n6pm Dinner\n7.15pm Satsang/Classical Concert/Kalaripayittu Martial Arts Demonstration \n*Subject to availability and extra cost will apply\n**Timetable subject to change and variation \n \nRetreat Venues: \n \nArsha Yoga Gurukulum (www.arshayoga.org) is a small\, family run ashram located in silent village surroundings of central Kerala\, and nestled in a stunning beach-side coconut grove. Accommodation is clean and simple\, shared rooms with shared bathroom. Meals are served twice daily and effort is taken to provide homegrown fruits and vegetables from the garden. \nHeritage Farms (www.heritagefarm.in) is an eco-conscious and beautifully tranquil sanctuary set in the lush greenery and stunning views of the Western Ghats in the Idukki district of Kerala. Enjoy comfortable and cosy lodgings\, with breath taking views and organic\, farm to table food. Here we will explore the beauty of nature with guided trekking and a boat trip on the largest dam in Asia. \nProposed Itinerary:\n16 Nov : Arrive Arsha Yoga\n16-19 Nov : Settle into Ashram living\, shopping trip\, excursions/Concert/Martial arts demo\n20 Nov : Depart Arsha Yoga to Heritage Farms\n21-22 Nov : Trekking & boating on dam\n23 Nov : Marayur Sandalwood Plantation\n24 Nov : Travel to Isha Yoga Foundation\, home of Sadghuru\n24-26 Nov : Isha Yoga Ashram\n27 Nov : Bus to train station & train to Thrissur (Arsha Yoga)\n27-29 Nov Arsha Yoga/concert/martial arts demo\n30 Nov : Depart Arsha Yoga\n*This itinerary is subject to change and variation \n \nCost & Eligibility:\nThe price of the retreat is £1450* per person and includes: \n\nall accommodation\, food whilst staying at Arsha Yoga\, Heritage Farm & Isha Yoga\ntransfer to and from airport\nprivate minibus for travel\ntrain and bus tickets as required excursions\, lectures and cultural events local guide\nall pranayama\, meditation and yoga classes\n\nPrice excludes flights\, visa\, insurance\, vaccinations\, food whilst travelling outside the ashram and extras such as massage and shopping. \nThere is a £200 non-refundable deposit payable on booking (this will be refunded if the retreat is cancelled by us).\nPayment in full is due by 30th September 2024.\nThis retreat is open to sincere yogis who have at least 2 years yoga experience\, ideally with a daily meditation practice.\nPlease contact us if you do not have the required experience and we will assess your application on a case by case basis.\nAll participants will be expected to follow the guidelines set out on the next page.\n*Quick action bonus of £150 off stated price if you book and pay deposit wihtin 30 days of registration opening! \nAshram Guidelines\nIn respect of the of the ashram culture please observe these guidelines: \n\nAlcohol\, drugs\, smoking and non-vegetarian diet (meat\, fish or eggs) are prohibited during the retreat.\nLong pants and t-shirt covering the shoulders are required for the retreat. Tight fitting and transparent clothing should be avoided.\nFor swimming\, women are requested to wear shorts down to their knees and a t-shirt covering the shoulders.\nThe ashram is a plastic FREE zone. If you bring any plastic bags or bottles with you\, please think of packing them with you when you leave\nMosquito nets\, first aid kit\, boiled water are provided and eco-friendly washing soap can be purchased from the ashram.\n\nAbout the hosts:\nAngela Cresswell (Pradipa)\nAngela has been living and practicing Yoga for almost 20 years. She studied intensively under Swami Govindananda in Kerala\, India\, in 2012 and 2017\, and undertook 6 months intense Sadhana (spiritual practice) at Arsha Yoga in 2012\, studying with Yoga Acharya Harilal Karanath. Here she completed further studies in Vedic Culture and Psychology\, also qualifying as a Yoga Therapist. After teaching in India and Thailand\, she returned to the UK in 2014 and started Pradhipa Yoga\, specialising in stress management and embodied movement. She has run 3 Yoga Ashram retreats to India with Meera and looks forward to welcoming you on this spiritual piligrimage.\n“As soon as I arrive at Arsha Yoga\, all my cares and worries melt away and I feel enlightened and free. I am blessed to be able share this magical place with you.” \nMarie Meera Karanath\nBesides her translation and interpreting studies in Germany\, Marie Meera Karanath completed her two years yoga teachers` training course in 2006 and one year yoga therapy instructors’ course in 2008. After gaining experience for three years as a yoga teacher in Germany\, she has continued her teaching practice at Arsha Yoga since 2009.\nShe is one of the teachers and the course coordinator of Arsha Yoga\, at the moment also a full time mother. Her main passion is yin yoga\, individual yoga therapy\, kirtan\, mantra chanting and woman’s work.\n“Living in a different country teaches you to set your ego aside\, to reassess your social and cultural background\, to come out of the cocoon and become a butterfly. This has to happen. My daugther\, Gayatri\, is the greatest teacher in this regard.” \nArrival Information\nVISA:\nAll visitors to India are required to obtain a Tourist Visa prior to entering the country.\nTo apply for a 6-12 month tourist visa you have to apply through the post or by visiting the Visa centre in London/Birmingham. The visa is only valid from the date of issue not date of arrival.\nVisit: http://www.vfsglobal.com/India/UK/\nAn online E-Visa is quicker and cheaper and it is valid for 30 days. The link to apply direct to Indian government for an E-Visa is: https://indianvisaonline.gov.in/visa/tvoa.html\nFor Government Visa Advice for India please visit: https://www.gov.uk/foreign-travel-advice/india/entry-requirements \nVACCINATIONS:\nPlease make an appointment with your GP to discuss which vaccinations are required. As a general rule you should ensure that your standard vaccinations for life in the UK are up to date such as; Diphtheria; Hepatitis A; Tetanus; Typhoid. Malaria is not required for the area we are travelling to but please seek advice from your doctor to confirm this. \nINSURANCE:\nPlease ensure you have valid travel insurance for your trip. \nWhat to bring: \n\n3 x photocopies of Passport and Vis\nFlashlight\nToiletries\nAlarm Clock\nWater bottle or flask\nYoga Mat – Cotton if possible (can be purchased from Ashram)\nThin Towel\nSwimming clothes (for ladies shorts down to the knees and short sleeved t-shirt)\nSun lotion\nHat\n1 warm sweater or cardigan\n1 Pair of walking shoes\nUmbrella or rain coat\nMosquito repellent\nBackpack (for 7 day trip)\nNail brush\nToilet paper (we encourage you to use the Indian method of washing instead)\n\nWeather: Temperature stays steady all year round at 30 degrees. \nTestimonials: \n“ I am very grateful and thankful for everything you did for us\, it was the lifetime experience and it helped me in many aspects of my life <3. I loved and enjoyed everything!” \n“The yoga retreat was like pushing a reset button for me\, as though someone said ‘ok\, welcome back to you\, you are a beautiful peaceful being\, now go and spread your light!’\, it brought me back to me. Thank you Angela and Meera! “ \n“I feel very priveleged to have experienced authentic\, rural India off the normal tourist track” \n“The beach! What more can I say? Seeing this and listening to the sound of the waves day and night was such a tranquil experiences. The ever-present sound of the ocean was the best ever soundtrack you could wish for: when practising yoga\, eating our meals or just relaxing\, it simply soothed the soul.”
URL:https://arshayoga.org/courses-events/south-india-yatra-pilgrimage/
CATEGORIES:Events India
ATTACH;FMTTYPE=image/jpeg:https://arshayoga.org/wp-content/uploads/2024/03/s_yatra_9.jpg
END:VEVENT
END:VCALENDAR