BEGIN:VCALENDAR
VERSION:2.0
PRODID:-//Arshayoga - ECPv6.15.19//NONSGML v1.0//EN
CALSCALE:GREGORIAN
METHOD:PUBLISH
X-ORIGINAL-URL:https://arshayoga.org
X-WR-CALDESC:Events for Arshayoga
REFRESH-INTERVAL;VALUE=DURATION:PT1H
X-Robots-Tag:noindex
X-PUBLISHED-TTL:PT1H
BEGIN:VTIMEZONE
TZID:Asia/Kolkata
BEGIN:STANDARD
TZOFFSETFROM:+0530
TZOFFSETTO:+0530
TZNAME:IST
DTSTART:20230101T000000
END:STANDARD
END:VTIMEZONE
BEGIN:VEVENT
DTSTART;TZID=Asia/Kolkata:20240905T193000
DTEND;TZID=Asia/Kolkata:20241016T203000
DTSTAMP:20260420T005807
CREATED:20240806T101157Z
LAST-MODIFIED:20240806T101157Z
UID:2944-1725564600-1729110600@arshayoga.org
SUMMARY:Faculty development program for Yoga Trainers ONLINE
DESCRIPTION:It is common for many yoga teachers to be forced to confine themselves to asana-pranayama and their own spiritual progress is stagnates. As a solution to this\, the Indian Yoga Association (IYA) organizes ‘Faculty Development Trainings’ (FDP). \nFor the first time in South India\, FDP is running in Kerala. An opportunity to get essential knowledge related to yoga in contemporary context from talented teachers. To register for the FDP program jointly organized by Arsha Yoga Gurukulam and IYA on 5th September\, visit this link – https://forms.gle/YhrxJw15cptE2Xhr6. \n9 topics / 18 sessions \nClasses on Mon\, Wed\, Fri:  7:30 – 8:30pm ONLINE \nTopics: \n\nYoga Sutras\nYoga Scriptures\nYoga Therapy\nYoga and Ayurveda\nYoga and Naturopathy\nYoga and modern medicine\nYoga psychology\nYogic wellness (diet and lifestyle)\nYogic breath – prana and pranayama\n\nThis course will be conducted in Malayalam medium. Next course will be in English.  \nStay tuned for more information! \nFore more information contact: 8281410057\, 9947080222\, 9497653314
URL:https://arshayoga.org/courses-events/faculty-development-program-for-yoga-trainers-online/
CATEGORIES:Courses Online,Events India
ATTACH;FMTTYPE=image/jpeg:https://arshayoga.org/wp-content/uploads/2024/08/7201eaaf-4349-46d9-ab36-8a31afa71bb3.jpeg
END:VEVENT
END:VCALENDAR