BEGIN:VCALENDAR
VERSION:2.0
PRODID:-//Arshayoga - ECPv6.15.19//NONSGML v1.0//EN
CALSCALE:GREGORIAN
METHOD:PUBLISH
X-ORIGINAL-URL:https://arshayoga.org
X-WR-CALDESC:Events for Arshayoga
REFRESH-INTERVAL;VALUE=DURATION:PT1H
X-Robots-Tag:noindex
X-PUBLISHED-TTL:PT1H
BEGIN:VTIMEZONE
TZID:Asia/Kolkata
BEGIN:STANDARD
TZOFFSETFROM:+0530
TZOFFSETTO:+0530
TZNAME:IST
DTSTART:20220101T000000
END:STANDARD
END:VTIMEZONE
BEGIN:VEVENT
DTSTART;VALUE=DATE:20231203
DTEND;VALUE=DATE:20231218
DTSTAMP:20260420T161644
CREATED:20220825T181436Z
LAST-MODIFIED:20230531T214748Z
UID:2371-1701561600-1702857599@arshayoga.org
SUMMARY:Yoga Therapy Training Level 2 - Yoga Psychology and the Immune System (India)
DESCRIPTION:This course gives an insight into the mysteries of the mind that Rishis (the wisemen) were able to see and describe. The knowledge of mind is present in all aspects of life – yoga\, Ayurveda\, music\, dance\, rituals\, economics\, social life or politics – and all such disciplines deal with the concept of mind only. This course is an attempt to collect the dissipated knowledge about mind and put it into a structure which is understandable to the modern mind. We will discuss about psychological hygiene. Yoga psychology analyses the deepest level of mind which is deeper than the sub-conscious as mentioned modern psychology. \nThis course helps you understand your mind and any mind-related issues present during yoga therapy. This course will also give detailed training on anxiety and depression\, stress management and strengthening of the immune system that becomes is useful when treating autoimmune diseases. \nHarilalji has been working in yoga therapy for psychosomatic and psychological ailments since 2002. His area of expertise is yoga psychology. He has the skill of explaining this ancient science of yoga psychology to the modern mind without losing its essence. In his lectures he differentiates modern psychology from yoga psychology in their approach of mind analysis without creating a contradiction. Harilalji has been\nconducting research in the field of Vedic psychology since 2000. \nYou don’t need to be a yoga therapist\, when attending this course. Only a deep interest in the main subject of yoga psychology is necessary. \nEligibility:\nThis course is intended for yoga therapists or yoga teachers with minimum 200 hrs certificate. \n \nSyllabus:\nThis training offers basic knowledge of yoga psychology:\n1. relationship between body\, mind and soul\n2. the function of senses and mind\n3. prana as part of the whole mind\n4. four faces of mind\n5. fundamental issues of mind\, cause and its management\n6. maintenance of psychological hygiene and mental health\n7. Immunity and how to strengthen it\n8. Auto immune diseases and their management\n9. Stress management (including practice)\n10. Management of anxiety and depression (including practice)\n11. Special techniques (yogic exercises for disease management)\n12. Mantra relaxation technique – a relaxation technique by using mantra in certain\nsequence (including practice)\n13. Prana channelising – relaxation technique for the pranic body by using our own mental power (included the practice) \nParticipants who successfully complete the course and pass the examination will be awarded a certificate with the alliance of IYA (Indian Yoga Association)\, Certified Yoga Association by the AYUSH Ministry. \nYoga therapists will get a certificate of yoga therapy level II and Yoga Teachers will get certificate of course completed. \n\n\n\n\nDaily Schedule\n \n\n\n\n\n5:30 AM \n\n\nwake-up \n\n\n\n\n6 AM to 6:45 AM \n\n\npranayama and meditation (self practice on Wednesday) \n\n\n\n\n7:15 AM  \n\n\ntea \n\n\n\n\n8:15 AM to 10 AM \n\n\nasana class (self practice on Friday) \n\n\n\n\n10:15 AM \n\n\nbrunch \n\n\n\n\n1 PM \n\n\ntea \n\n\n\n\n2 to 4 PM (Friday off) \n\n\ntheory  \n\n\n\n\n6:15 PM \n\n\ndinner \n\n\n\n\n7 PM \n\n\nsatsang (self practice on Tuesday) \n\n\n\n\n9:30 PM \n\n\nlights out \n\n\n\n\n  \nRetreat Venue \nArsha Yoga Gurukulam (www.arshayoga.org)  \nis located in silent village surroundings of central Kerala\, just 50m from the Arabian sea\, where traditional knowledge of yoga\, Ayurveda and Vedanta is being impaired. \nThe Gurukulam provides accommodation in 2 different categories:  \n\n4 double rooms with shared bathroom (sleeps 6) \nsuite with double occupancy with attached bathroom\, balcony and kitchenette (sleeps 2) \nmore double accommodation can be arranged in the neighbourhood\n\n \nThe Ashram provides two simple vegetarian ayurvedic meals per day that suit the learning and practicing of yoga and two times chai and snacks. \nInvestment \nThe price of the retreat differs according to the type of accommodation. Accommodation will be assigned on a first come first serve basis.  \nThere are 2 types of accommodation:  \n\n4 double rooms with shared bathroom (sleeps 6) 850 euro\nDeluxe suite (sleeps 2) with attached bathroom and seaview\, balcony and kitchenette  1050 euro                                                                                                                                                                                                                                                                                   \n\nThe prices above include food\, accommodation and all yoga classes. Trips can be arranged on an off day for extra cost. You will need only pocket money for souvenirs or food outside the ashram.  \nFor registration kindly fill the Google form https://forms.gle/bVRzWwtqcF36TZpXA and we will send you the payment details in return. \nIn case of any unexpected event or a worsened covid situation\, the deposit of 200 EUR will be transferred to any of the courses conducted by Arsha Yoga thereafter.
URL:https://arshayoga.org/courses-events/yoga-therapy-training/
LOCATION:Arsha Yoga\, Next to Anganvadi\, Edasheri beach south\, Thrissur\, Kerala\, 680569\, India
CATEGORIES:Events India,Yoga Therapy Training
ATTACH;FMTTYPE=image/png:https://arshayoga.org/wp-content/uploads/2022/08/Yoga-Therapy-Training-1.png
END:VEVENT
END:VCALENDAR