BEGIN:VCALENDAR
VERSION:2.0
PRODID:-//Arshayoga - ECPv6.15.19//NONSGML v1.0//EN
CALSCALE:GREGORIAN
METHOD:PUBLISH
X-ORIGINAL-URL:https://arshayoga.org
X-WR-CALDESC:Events for Arshayoga
REFRESH-INTERVAL;VALUE=DURATION:PT1H
X-Robots-Tag:noindex
X-PUBLISHED-TTL:PT1H
BEGIN:VTIMEZONE
TZID:Asia/Kolkata
BEGIN:STANDARD
TZOFFSETFROM:+0530
TZOFFSETTO:+0530
TZNAME:IST
DTSTART:20210101T000000
END:STANDARD
END:VTIMEZONE
BEGIN:VEVENT
DTSTART;TZID=Asia/Kolkata:20220911T053000
DTEND;TZID=Asia/Kolkata:20221231T203000
DTSTAMP:20260423T070311
CREATED:20220426T081804Z
LAST-MODIFIED:20220831T191844Z
UID:2241-1662874200-1672518600@arshayoga.org
SUMMARY:Yoga Instructor's Course - training for the AYUSH certification (hybrid)
DESCRIPTION:Certification Course by Ministry of Ayush\, Govt of India (hybrid) \nDuration :  108 days / 250 hrs (Sept 11\, 2022 – Dec 31\,2022) \nCourse Highlights: The YIC syllabus is equivalent to Ayush level-1 syllabus. Classes will be led by senior Ayush-certified Acharyas. For participants living abroad\, online live classes will be made available on zoom platform. Course will be imparted in both English and Malayalam. \nBenefits of YIC training: • Improves physical and mental health • Improves communication skills • Instills self-discipline • Encourages time-management skills • Provides spiritual awareness and a positive direction to life \nCertification: On passing the Ayush examination\, the Ayush Level-1 Certificate will be awarded by the Yoga Certification Board (YCB)\, Ministry of Ayush\, Govt. of India. A course completion certificate will be provided by Arsha Yoga Gurukulam. \nEligibility: • 10th standard/secondary pass • Average mental and physical health • Readiness for dedicating time for the duration of the course. • Age: No Age limit \nExam: • Ayush exam will be conducted online as per the regulations of Ayush and Arsha Yoga at the time. • Exam will be in both English and Malayalam • Total Marks: 200 (Theory + Practical) \nTheory: • History\, definitions\, aim & objectives of yoga • Introduction to Yoga Texts (Yoga sutra\, Hatayoga Pradipika & Bhagavad Gita) • Introduction to Vedas and Vedanta • Introduction to Hatha yoga and Raja yoga • Brief introduction to the human body. • Concepts and principles of Aahara (Diet) • Concepts of healthy living • Yogic life style for health promotion and prevention of disease • Yoga for positive attitude & personality development \n Practicals: • Demonstration Skills • Teaching skills • Vyayamas • Sukshma Vyayama • Sthula Vyayama • Sthithi • Surya Namaskara • Asanas and its variations • Dhyana asanas • Vishrama asanas • Samskarana asanas • Pranayama • Preparatory breathing techniques • Recitation of Shanthi mantras • Practices leading to Dhyanam • Basic Shuddhi Kriyas • Basic mudras and bandhas \nCourse schedule: \nTheory 3 days (Mon\, Wed\, Fri) 1.5 hrs (5:30 – 7:15 am) \nPractical 3 days (Tue\, Thurs\, Sat) 1.5 hrs (5:30 – 7:15 am) \nSatsang 1 day (Sat) 1.5 hrs (7:00 – 8:30 pm) \nKarma yoga 1 hr / week as per participant’s convenience \nSelf-study (extra reading) 1 hr / week as per participant’s convenience \nSunday off
URL:https://arshayoga.org/courses-events/yoga-instructors-course-training-for-the-ayush-certification-hybrid/
LOCATION:Arsha Yoga\, Next to Anganvadi\, Edasheri beach south\, Thrissur\, Kerala\, 680569\, India
CATEGORIES:Courses Online,Events India,Yoga Teacher Training
ATTACH;FMTTYPE=image/jpeg:https://arshayoga.org/wp-content/uploads/2022/04/IMG_20160313_083527-1.jpg
END:VEVENT
BEGIN:VEVENT
DTSTART;TZID=Asia/Kolkata:20220913T060000
DTEND;TZID=Asia/Kolkata:20221007T170000
DTSTAMP:20260423T070311
CREATED:20220719T132427Z
LAST-MODIFIED:20220719T132427Z
UID:2287-1663048800-1665162000@arshayoga.org
SUMMARY:Prana and Pranayama (in-person and online)
DESCRIPTION:with Harilalji (founder and chief yoga therapist at Arsha Yoga) in Malayalam\n\nat Arsha Yoga or online via ZOOM\n\n8 days course on Tuesdays and Fridays 6-7:30 am: September 13\, 16\,20\, 23\,27\,30 and October 4\,7\n\nModern diseases are rooted in the mind. Prana represents the bridge between body and mind\, where the human immune system dwells. You cannot eradicate human suffering completely\, unless you have knowledge about prana and mind. Knowledge of prana is essential\, if you want to gain a complete knowledge about mind. This course explains all about prana and theory of pranayama from spiritual as well as the scientific aspect.\n\nFor registration whattsapp: 9446379228\, 9497653314
URL:https://arshayoga.org/courses-events/prana-and-pranayama-in-person-and-online/
LOCATION:Arsha Yoga\, Next to Anganvadi\, Edasheri beach south\, Thrissur\, Kerala\, 680569\, India
CATEGORIES:Courses Online,Events India
END:VEVENT
END:VCALENDAR